BEGIN:VCALENDAR
VERSION:2.0
PRODID:-//wp-events-plugin.com//7.2.3.1//EN
TZID:Europe/London
X-WR-TIMEZONE:Europe/London
BEGIN:VEVENT
UID:34@lavenham.church
DTSTART;TZID=Europe/London:20260322T170000
DTEND;TZID=Europe/London:20260322T180000
DTSTAMP:20260310T001303Z
URL:https://lavenham.church/events/choral-evensong/
SUMMARY:Choral Evensong with Gonville & Caius College Choir
DESCRIPTION:Sunday 22nd March 5pm Lavenham Church Evensong with Gonville &a
 mp\; Caius College Choir\n\nA traditional service of choral evensong led b
 y the choir from our patron college\, Gonville &amp\; Caius College Cambri
 dge.\n\nEnjoy a glass of wine after the service\,\n\n\n\nEntry free. All w
 elcome
ATTACH;FMTTYPE=image/jpeg:https://lavenham.church/wp-content/uploads/2026/
 03/choir_in_the_round_2014_cropped_1-scaled.jpg
END:VEVENT
BEGIN:VTIMEZONE
TZID:Europe/London
X-LIC-LOCATION:Europe/London
BEGIN:STANDARD
DTSTART:20251026T010000
TZOFFSETFROM:+0100
TZOFFSETTO:+0000
TZNAME:GMT
END:STANDARD
END:VTIMEZONE
END:VCALENDAR