BEGIN:VCALENDAR
VERSION:2.0
PRODID:-//wp-events-plugin.com//7.2.3.1//EN
TZID:Europe/London
X-WR-TIMEZONE:Europe/London
BEGIN:VEVENT
UID:32@lavenham.church
DTSTART;TZID=Europe/London:20251005T100000
DTEND;TZID=Europe/London:20251005T110000
DTSTAMP:20250925T113807Z
URL:https://lavenham.church/events/harvest-thanksgiving/
SUMMARY:Harvest Thanksgiving
DESCRIPTION:Harvest Festival will be celebrated at Lavenham on Sunday 5 Oct
 ober with a special service of Holy Communion at 10am\, followed by a Brin
 g and Share Lunch.\n\nPlease sign up on the sheets at the back of Church t
 o let us know what you are able to bring\, savoury or sweet.\n\nOur Harves
 t collection this year will support The Farming Community Network\, which 
 is a voluntary organisation and charity that supports farmers\, farming fa
 milies and people in rural communities through difficult times and periods
  of change\, helping to build thriving communities\, encourage resilience 
 and help farming people to explore their options.\n\nCould you invite a fr
 iend? – there are some invitation cards in Church for you to take to inv
 ite someone to join us for the Harvest Festival service.\n\nThe Primary Sc
 hool will have a Harvest Service in Church on Friday 10 October at 2.00pm.
 \n\nPreston St Mary celebrate Harvest Festival on Sunday 12 October with a
  service at 12noon followed by lunch.
ATTACH;FMTTYPE=image/jpeg:https://lavenham.church/wp-content/uploads/2025/
 09/harvest.jpg
LOCATION:Lavenham Church\, Church Street\, Lavenham\, Sudbury\, Suffolk\, C
 O10 9SA\, United Kingdom
X-APPLE-STRUCTURED-LOCATION;VALUE=URI;X-ADDRESS=Church Street\, Lavenham\, 
 Sudbury\, Suffolk\, CO10 9SA\, United Kingdom;X-APPLE-RADIUS=100;X-TITLE=L
 avenham Church:geo:0,0
END:VEVENT
BEGIN:VTIMEZONE
TZID:Europe/London
X-LIC-LOCATION:Europe/London
BEGIN:DAYLIGHT
DTSTART:20250330T020000
TZOFFSETFROM:+0000
TZOFFSETTO:+0100
TZNAME:BST
END:DAYLIGHT
END:VTIMEZONE
END:VCALENDAR