BEGIN:VCALENDAR
VERSION:2.0
PRODID:-//wp-events-plugin.com//7.2.3.1//EN
TZID:Europe/London
X-WR-TIMEZONE:Europe/London
BEGIN:VEVENT
UID:33@lavenham.church
DTSTART;TZID=Europe/London:20260217T120000
DTEND;TZID=Europe/London:20260217T140000
DTSTAMP:20260216T203633Z
URL:https://lavenham.church/events/pancake-party/
SUMMARY:Pancake Party
DESCRIPTION:Shrove Tuesday lunch - soup\, bread and cheese followed by panc
 akes.\n\nDonations invited which will go to support out local Foodbank.
ATTACH;FMTTYPE=image/jpeg:https://lavenham.church/wp-content/uploads/2026/
 01/perfect-pancakes-ad7a753.jpg
LOCATION:Lavenham Church\, Church Street\, Lavenham\, Sudbury\, Suffolk\, C
 O10 9SA\, United Kingdom
X-APPLE-STRUCTURED-LOCATION;VALUE=URI;X-ADDRESS=Church Street\, Lavenham\, 
 Sudbury\, Suffolk\, CO10 9SA\, United Kingdom;X-APPLE-RADIUS=100;X-TITLE=L
 avenham Church:geo:0,0
END:VEVENT
BEGIN:VTIMEZONE
TZID:Europe/London
X-LIC-LOCATION:Europe/London
BEGIN:STANDARD
DTSTART:20251026T010000
TZOFFSETFROM:+0100
TZOFFSETTO:+0000
TZNAME:GMT
END:STANDARD
END:VTIMEZONE
END:VCALENDAR